BEGIN:VCALENDAR
METHOD:PUBLISH
PRODID:-//Weblication CMS
VERSION:2.0
BEGIN:VEVENT
SUMMARY:Fraunhofer IKTS/IFAM
DTSTART:20250325T000000
DTEND:20250326T235959
DESCRIPTION:
LOCATION:
UID:https://www.jrs.de/de/chemie/events/data/fraunhofer-ikts-ifam.php?uid=fe86861f517034f7ba149d33c9b86c04
URL:https://www.jrs.de/de/chemie/events/data/fraunhofer-ikts-ifam.php
END:VEVENT
END:VCALENDAR